BEGIN:VCALENDAR
VERSION:2.0
PRODID:-//Library Market//iCal Export//EN
BEGIN:VEVENT
SUMMARY:One on One
UID:57371
DTSTAMP:20260425T132200Z
DTSTART:20260417T133000Z
DTEND:20260417T150000Z
LOCATION:West Hernando Branch, 6335 Blackbird Ave, Brooksville, FL 34613, 
 United States
ROOM: WH Teen Room
DESCRIPTION:Computer one-on-one 
URL:https://hernandocounty.librarycalendar.com/event/one-one-57371
END:VEVENT
END:VCALENDAR
